BEGIN:VCALENDAR
VERSION:2.0
PRODID:-//Library Market//iCal Export//EN
BEGIN:VEVENT
SUMMARY:Geschke Lecture: Danielle Allen
UID:10829
DTSTAMP:20260426T041500Z
DTSTART:20260706T213000Z
DTEND:20260706T223000Z
LOCATION:Great Harbor Yacht Club, 96 Washington Street, Nantucket , MA 025
 54, United States
ROOM: Geschke Lecture: Danielle Allen
DESCRIPTION:Topic: Radical Duke: How One Aristocratâ€•and the American Rev
 olutionâ€•Transformed Britain (Title of her new book due out in June)Â Dan
 ielle Allen is a distinguished American political theorist and the James B
 ryant Conant University Professor atâ€¯Harvard University, where she also 
 directs theâ€¯Allen Lab for Democracy Renovation. A graduate of Princeton 
 and the University of Cambridge, she holds two PhDsâ€”one in Classics and 
 another in Governmentâ€”reflecting her deep expertise in both ancient and 
 modern democratic theory. Her highly acclaimed scholarship has earned her 
 prestigious honors, including aâ€¯MacArthur Fellowshipâ€¯and the Library o
 f Congress&#039;sâ€¯Kluge Prize. In addition to her academic work, she is 
 the author of numerous influential books, such asâ€¯Our Declarationâ€¯andâ
 €¯Cuz, and has served as a longtime columnist forâ€¯The Washington Post. B
 eyond the classroom, Allen is a committed civic leader who made history as
  the first Black woman to run for statewide office in Massachusetts during
  herâ€¯2022 gubernatorial campaign.Â Attendees will receive a copy of Radi
 cal Duke.Â This lecture will be held at the Great Harbor Yacht Club. Ticke
 ts can be purchased here on June 1st.
URL:https://nantucket.librarycalendar.com/index.php/event/geschke-lecture-
 danielle-allen-10829
END:VEVENT
END:VCALENDAR
