BEGIN:VCALENDAR
VERSION:2.0
PRODID:-//Library Market//iCal Export//EN
BEGIN:VEVENT
SUMMARY:Class: How to Play Mahjong
UID:11591
DTSTAMP:20260419T132100Z
DTSTART:20260522T180000Z
DTEND:20260522T200000Z
LOCATION:Nantucket Atheneum, 1 India Street, Nantucket, MA 02554, United S
 tates
ROOM: Learning Lab
DESCRIPTION:Have you been wanting to learn how to play Mahjong? This is yo
 ur chance! Sign up for this 4-week series. By the end of the series, you 
 will know all the basics to confidently play Mahjong.About the Teacher:Lau
 ra Brusca is a seasonal resident of Nantucket and passionate about the rul
 es and etiquette of American Mahjong. She has taught new players and helpe
 d get groups established in Naples, The Villages, Baltimore and Nantucket.
  In 2023, she established the popular FaceBook page: “Nantucket Mahjong 
 Players,” so people on the island could easily find groups, start groups
 , or find additional players for games. Instruction is based on the Nation
 al Mahjongg League rules and how to read the card. Free but registration 
 is required. Limited to 16 participants!
URL:https://nantucket.librarycalendar.com/index.php/event/class-how-play-m
 ahjong-11591
END:VEVENT
END:VCALENDAR
