BEGIN:VCALENDAR
VERSION:2.0
PRODID:-//Library Market//iCal Export//EN
BEGIN:VEVENT
SUMMARY:Class: How to Play Mahjong
UID:11593
DTSTAMP:20260419T200200Z
DTSTART:20260605T180000Z
DTEND:20260605T200000Z
LOCATION:Nantucket Atheneum, 1 India Street, Nantucket, MA 02554, United S
 tates
ROOM: Learning Lab
DESCRIPTION:Class 3 of 4
URL:https://nantucket.librarycalendar.com/index.php/event/class-how-play-m
 ahjong-11593
END:VEVENT
END:VCALENDAR
