BEGIN:VCALENDAR
VERSION:2.0
PRODID:-//Library Market//iCal Export//EN
BEGIN:VEVENT
SUMMARY:Geschke Lecture: Paul Starr
UID:11005
DTSTAMP:20260426T041500Z
DTSTART:20260803T213000Z
DTEND:20260803T223000Z
LOCATION:Great Harbor Yacht Club, 96 Washington Street, Nantucket, MA 0255
 4-3519, United States
ROOM: Geschke Lecture: Paul Starr
DESCRIPTION:Title: How Shared Trust in Science and Medicine Broke Down, an
 d Distrust Took Over.Â Paulâ€¯Starrâ€¯is professor of sociology and public
  affairs at Princeton University and co-founder and founding co-editor ofâ
 €¯The American Prospectâ€¯magazine. He received the Pulitzer Prize for Gen
 eral Nonfiction and Bancroft Prize in American History forâ€¯The Social Tr
 ansformation of American Medicineâ€¯(1983; updated edition, 2017). His mos
 t recent book isâ€¯American Contradiction: Revolution and Revenge from the
  1950s to Now.Â This lecture is being held at Great Harbor Yacht Club.Tick
 ets can be purchased HERE on June 1.
URL:https://nantucket.librarycalendar.com/event/geschke-lecture-paul-starr
 -11005
END:VEVENT
END:VCALENDAR
