BEGIN:VCALENDAR
VERSION:2.0
PRODID:-//Library Market//iCal Export//EN
BEGIN:VEVENT
SUMMARY:Class: How to Play Mahjong
UID:11592
DTSTAMP:20260420T013100Z
DTSTART:20260529T180000Z
DTEND:20260529T200000Z
LOCATION:Nantucket Atheneum, 1 India Street, Nantucket, MA 02554, United S
 tates
ROOM: Learning Lab
DESCRIPTION:Class 2 or 4
URL:https://nantucket.librarycalendar.com/event/class-how-play-mahjong-115
 92
END:VEVENT
END:VCALENDAR
