BEGIN:VCALENDAR
VERSION:2.0
PRODID:-//Library Market//iCal Export//EN
BEGIN:VEVENT
SUMMARY:Class: How to Play Mahjong
UID:11594
DTSTAMP:20260420T013100Z
DTSTART:20260612T180000Z
DTEND:20260612T200000Z
LOCATION:Nantucket Atheneum, 1 India Street, Nantucket, MA 02554, United S
 tates
ROOM: Learning Lab
DESCRIPTION:Class 4 of 4
URL:https://nantucket.librarycalendar.com/event/class-how-play-mahjong-115
 94
END:VEVENT
END:VCALENDAR
