BEGIN:VCALENDAR
VERSION:2.0
PRODID:-//Library Market//iCal Export//EN
BEGIN:VEVENT
SUMMARY:The Curtis Institute
UID:9663
DTSTAMP:20260426T041500Z
DTSTART:20260719T230000Z
DTEND:20260720T003000Z
LOCATION:Nantucket Atheneum, 1 India St, NANTUCKET, MA 02554, United State
 s
ROOM: Great Hall
DESCRIPTION:Violinist Elissa Koljonen (’94), hailed for her “boundless
  technique and musicianship” (Chicago Tribune), guitarist Hao Yang (’2
 2), and cellist Romain-Olivier Gray present a program of virtuosic solo re
 pertoire by J.S. Bach. The program features Bach&#039;s Lute suite in e mi
 nor, the beloved sixth cello suite, and the masterful chaconne for solo vi
 olin. Free and Open to the Public!  
URL:https://nantucket.librarycalendar.com/event/curtis-institute-9663
END:VEVENT
END:VCALENDAR
