BEGIN:VCALENDAR
VERSION:2.0
PRODID:-//Library Market//iCal Export//EN
BEGIN:VEVENT
SUMMARY:Concert: Night Shift
UID:9877
DTSTAMP:20260425T220800Z
DTSTART:20260602T223000Z
DTEND:20260602T233000Z
LOCATION:Nantucket Atheneum, 1 India St, NANTUCKET, MA 02554, United State
 s
ROOM: Great Hall
DESCRIPTION:Night Shift is a high-energy pop cover band out of Citrus Coll
 ege in Los Angeles, California, known for turning any event into a packed 
 dance floor. Blending top-chart hits with nonstop momentum, they deliver c
 rowd-favorite songs with precision, personality, and serious stage presenc
 e. From weddings and parties to some of Southern California’s most high-
 profile events, Night Shift brings the soundtrack—and the energy—to ke
 ep audiences moving all night long.Free and Open to All!!
URL:https://nantucket.librarycalendar.com/event/concert-night-shift-9877
END:VEVENT
END:VCALENDAR
